BEGIN:VCALENDAR
VERSION:2.0
PRODID:-//Palm Beach Shakespeare Festival - ECPv6.15.20//NONSGML v1.0//EN
CALSCALE:GREGORIAN
METHOD:PUBLISH
X-WR-CALNAME:Palm Beach Shakespeare Festival
X-ORIGINAL-URL:https://pbshakespeare.org
X-WR-CALDESC:Events for Palm Beach Shakespeare Festival
REFRESH-INTERVAL;VALUE=DURATION:PT1H
X-Robots-Tag:noindex
X-PUBLISHED-TTL:PT1H
BEGIN:VTIMEZONE
TZID:America/New_York
BEGIN:DAYLIGHT
TZOFFSETFROM:-0500
TZOFFSETTO:-0400
TZNAME:EDT
DTSTART:20250309T070000
END:DAYLIGHT
BEGIN:STANDARD
TZOFFSETFROM:-0400
TZOFFSETTO:-0500
TZNAME:EST
DTSTART:20251102T060000
END:STANDARD
BEGIN:DAYLIGHT
TZOFFSETFROM:-0500
TZOFFSETTO:-0400
TZNAME:EDT
DTSTART:20260308T070000
END:DAYLIGHT
BEGIN:STANDARD
TZOFFSETFROM:-0400
TZOFFSETTO:-0500
TZNAME:EST
DTSTART:20261101T060000
END:STANDARD
BEGIN:DAYLIGHT
TZOFFSETFROM:-0500
TZOFFSETTO:-0400
TZNAME:EDT
DTSTART:20270314T070000
END:DAYLIGHT
BEGIN:STANDARD
TZOFFSETFROM:-0400
TZOFFSETTO:-0500
TZNAME:EST
DTSTART:20271107T060000
END:STANDARD
END:VTIMEZONE
BEGIN:VEVENT
DTSTART;TZID=America/New_York:20260709T200000
DTEND;TZID=America/New_York:20260709T220000
DTSTAMP:20260422T070030
CREATED:20250818T022339Z
LAST-MODIFIED:20260329T235421Z
UID:10000400-1783627200-1783634400@pbshakespeare.org
SUMMARY:WORLD PREMIERE! William Shakespeare's FALSTAFF
DESCRIPTION:WORLD PREMIERE\nWilliam Shakespeare’s FALSTAFF\n\nABOUT THE PLAY: Featured in three of Shakespeare’s plays\, one of the most enduring and beloved characters of all time is brought to live in this Palm Beach Shakespeare Festival WORLD PREMIERE production of William Shakespeare’s FALSTAFF. \nFrom Henry the IV and Henry the V\, to The Merry Wives of Windsor\, the character of Falstaff looms larger-than-life. This original production\, written by Artistic Director Trent Stephens\, uses scenes from each play to weave together the tale of the life and times of history’s greatest wit and scoundrel.\nPRODUCTION DETAILS: The Palm Beach Shakespeare Festival and Palm Beach County Parks & Recreation present the 36th Annual Shakespeare by the Sea WORLD PREMIERE presentation of William Shakespeare’s FALSTAFF – Thursdays through Sundays\, July 9-12 and 16-19 at the Seabreeze Amphitheater\, located at 750 South\, Jimmy Buffet Memorial Hwy\, Jupiter\, FL 33477. All performances start at 8:00pm and are FREE with a suggested donation of $5 per person. \n\n\n\n\n\n\n\n\n\n\n\n\n\n\n	Sponsors & Support\n\n	Shakespeare by the Sea XXXVI is co-presented in partnership with Palm Beach County Parks and Recreation\n\n \n\n\n	Presenting Sponsors\n\nGary & Katherine Parr\n\n\n\n\n\n\n\n\n\n\n\n\n\n\n	Shakespeare Circle Sponsors\n\nLisa Calberg & Frank Cona\n\n \n\n\n\n\n	The Bard’s Patron Sponsors\n\nKeith Christman\n\n \n\n\n\n\n	In-Kind Sponsors\n\nMalinda Ratliff\nChuck Andersen\nJeffrey Langlois\nJen Scott Photography\nAtlantic T’s\nAAA Equipment Rentals\nThunder House Sound\nDana Stevens Stages\nApplications\, Inc.\n\n\n\n    \n        \n            \n                \n                \n                \n                \n                \n                \n            \n        \n        \n    \n\n\n\n\n\n\n\n\n\n\n\n\n\n\n\nAnd to YOU\, our faithful patrons\, we\n“can no other answer make\, but thanks\, and thanks.”\n\n\n\n\n\n\n\n\n\n\n\n\n\n\n	The Palm Beach Shakespeare Festival is sponsored in part through grant funding from the following:
URL:https://pbshakespeare.org/event/william-shakespeares-fallstaff/2026-07-09/
LOCATION:Seabreeze Ampitheatre\, 750 South\, Florida A1A\, Jupiter\, FL\, 33477\, United States
CATEGORIES:Shakespeare by the Sea
END:VEVENT
BEGIN:VEVENT
DTSTART;TZID=America/New_York:20260710T200000
DTEND;TZID=America/New_York:20260710T220000
DTSTAMP:20260422T070030
CREATED:20250818T022339Z
LAST-MODIFIED:20260329T235421Z
UID:10000401-1783713600-1783720800@pbshakespeare.org
SUMMARY:WORLD PREMIERE! William Shakespeare's FALSTAFF
DESCRIPTION:WORLD PREMIERE\nWilliam Shakespeare’s FALSTAFF\n\nABOUT THE PLAY: Featured in three of Shakespeare’s plays\, one of the most enduring and beloved characters of all time is brought to live in this Palm Beach Shakespeare Festival WORLD PREMIERE production of William Shakespeare’s FALSTAFF. \nFrom Henry the IV and Henry the V\, to The Merry Wives of Windsor\, the character of Falstaff looms larger-than-life. This original production\, written by Artistic Director Trent Stephens\, uses scenes from each play to weave together the tale of the life and times of history’s greatest wit and scoundrel.\nPRODUCTION DETAILS: The Palm Beach Shakespeare Festival and Palm Beach County Parks & Recreation present the 36th Annual Shakespeare by the Sea WORLD PREMIERE presentation of William Shakespeare’s FALSTAFF – Thursdays through Sundays\, July 9-12 and 16-19 at the Seabreeze Amphitheater\, located at 750 South\, Jimmy Buffet Memorial Hwy\, Jupiter\, FL 33477. All performances start at 8:00pm and are FREE with a suggested donation of $5 per person. \n\n\n\n\n\n\n\n\n\n\n\n\n\n\n	Sponsors & Support\n\n	Shakespeare by the Sea XXXVI is co-presented in partnership with Palm Beach County Parks and Recreation\n\n \n\n\n	Presenting Sponsors\n\nGary & Katherine Parr\n\n\n\n\n\n\n\n\n\n\n\n\n\n\n	Shakespeare Circle Sponsors\n\nLisa Calberg & Frank Cona\n\n \n\n\n\n\n	The Bard’s Patron Sponsors\n\nKeith Christman\n\n \n\n\n\n\n	In-Kind Sponsors\n\nMalinda Ratliff\nChuck Andersen\nJeffrey Langlois\nJen Scott Photography\nAtlantic T’s\nAAA Equipment Rentals\nThunder House Sound\nDana Stevens Stages\nApplications\, Inc.\n\n\n\n    \n        \n            \n                \n                \n                \n                \n                \n                \n            \n        \n        \n    \n\n\n\n\n\n\n\n\n\n\n\n\n\n\n\nAnd to YOU\, our faithful patrons\, we\n“can no other answer make\, but thanks\, and thanks.”\n\n\n\n\n\n\n\n\n\n\n\n\n\n\n	The Palm Beach Shakespeare Festival is sponsored in part through grant funding from the following:
URL:https://pbshakespeare.org/event/william-shakespeares-fallstaff/2026-07-10/
LOCATION:Seabreeze Ampitheatre\, 750 South\, Florida A1A\, Jupiter\, FL\, 33477\, United States
CATEGORIES:Shakespeare by the Sea
END:VEVENT
BEGIN:VEVENT
DTSTART;TZID=America/New_York:20260711T200000
DTEND;TZID=America/New_York:20260711T220000
DTSTAMP:20260422T070030
CREATED:20250818T022339Z
LAST-MODIFIED:20260329T235421Z
UID:10000402-1783800000-1783807200@pbshakespeare.org
SUMMARY:WORLD PREMIERE! William Shakespeare's FALSTAFF
DESCRIPTION:WORLD PREMIERE\nWilliam Shakespeare’s FALSTAFF\n\nABOUT THE PLAY: Featured in three of Shakespeare’s plays\, one of the most enduring and beloved characters of all time is brought to live in this Palm Beach Shakespeare Festival WORLD PREMIERE production of William Shakespeare’s FALSTAFF. \nFrom Henry the IV and Henry the V\, to The Merry Wives of Windsor\, the character of Falstaff looms larger-than-life. This original production\, written by Artistic Director Trent Stephens\, uses scenes from each play to weave together the tale of the life and times of history’s greatest wit and scoundrel.\nPRODUCTION DETAILS: The Palm Beach Shakespeare Festival and Palm Beach County Parks & Recreation present the 36th Annual Shakespeare by the Sea WORLD PREMIERE presentation of William Shakespeare’s FALSTAFF – Thursdays through Sundays\, July 9-12 and 16-19 at the Seabreeze Amphitheater\, located at 750 South\, Jimmy Buffet Memorial Hwy\, Jupiter\, FL 33477. All performances start at 8:00pm and are FREE with a suggested donation of $5 per person. \n\n\n\n\n\n\n\n\n\n\n\n\n\n\n	Sponsors & Support\n\n	Shakespeare by the Sea XXXVI is co-presented in partnership with Palm Beach County Parks and Recreation\n\n \n\n\n	Presenting Sponsors\n\nGary & Katherine Parr\n\n\n\n\n\n\n\n\n\n\n\n\n\n\n	Shakespeare Circle Sponsors\n\nLisa Calberg & Frank Cona\n\n \n\n\n\n\n	The Bard’s Patron Sponsors\n\nKeith Christman\n\n \n\n\n\n\n	In-Kind Sponsors\n\nMalinda Ratliff\nChuck Andersen\nJeffrey Langlois\nJen Scott Photography\nAtlantic T’s\nAAA Equipment Rentals\nThunder House Sound\nDana Stevens Stages\nApplications\, Inc.\n\n\n\n    \n        \n            \n                \n                \n                \n                \n                \n                \n            \n        \n        \n    \n\n\n\n\n\n\n\n\n\n\n\n\n\n\n\nAnd to YOU\, our faithful patrons\, we\n“can no other answer make\, but thanks\, and thanks.”\n\n\n\n\n\n\n\n\n\n\n\n\n\n\n	The Palm Beach Shakespeare Festival is sponsored in part through grant funding from the following:
URL:https://pbshakespeare.org/event/william-shakespeares-fallstaff/2026-07-11/
LOCATION:Seabreeze Ampitheatre\, 750 South\, Florida A1A\, Jupiter\, FL\, 33477\, United States
CATEGORIES:Shakespeare by the Sea
END:VEVENT
BEGIN:VEVENT
DTSTART;TZID=America/New_York:20260712T200000
DTEND;TZID=America/New_York:20260712T220000
DTSTAMP:20260422T070030
CREATED:20250818T022339Z
LAST-MODIFIED:20260329T235421Z
UID:10000403-1783886400-1783893600@pbshakespeare.org
SUMMARY:WORLD PREMIERE! William Shakespeare's FALSTAFF
DESCRIPTION:WORLD PREMIERE\nWilliam Shakespeare’s FALSTAFF\n\nABOUT THE PLAY: Featured in three of Shakespeare’s plays\, one of the most enduring and beloved characters of all time is brought to live in this Palm Beach Shakespeare Festival WORLD PREMIERE production of William Shakespeare’s FALSTAFF. \nFrom Henry the IV and Henry the V\, to The Merry Wives of Windsor\, the character of Falstaff looms larger-than-life. This original production\, written by Artistic Director Trent Stephens\, uses scenes from each play to weave together the tale of the life and times of history’s greatest wit and scoundrel.\nPRODUCTION DETAILS: The Palm Beach Shakespeare Festival and Palm Beach County Parks & Recreation present the 36th Annual Shakespeare by the Sea WORLD PREMIERE presentation of William Shakespeare’s FALSTAFF – Thursdays through Sundays\, July 9-12 and 16-19 at the Seabreeze Amphitheater\, located at 750 South\, Jimmy Buffet Memorial Hwy\, Jupiter\, FL 33477. All performances start at 8:00pm and are FREE with a suggested donation of $5 per person. \n\n\n\n\n\n\n\n\n\n\n\n\n\n\n	Sponsors & Support\n\n	Shakespeare by the Sea XXXVI is co-presented in partnership with Palm Beach County Parks and Recreation\n\n \n\n\n	Presenting Sponsors\n\nGary & Katherine Parr\n\n\n\n\n\n\n\n\n\n\n\n\n\n\n	Shakespeare Circle Sponsors\n\nLisa Calberg & Frank Cona\n\n \n\n\n\n\n	The Bard’s Patron Sponsors\n\nKeith Christman\n\n \n\n\n\n\n	In-Kind Sponsors\n\nMalinda Ratliff\nChuck Andersen\nJeffrey Langlois\nJen Scott Photography\nAtlantic T’s\nAAA Equipment Rentals\nThunder House Sound\nDana Stevens Stages\nApplications\, Inc.\n\n\n\n    \n        \n            \n                \n                \n                \n                \n                \n                \n            \n        \n        \n    \n\n\n\n\n\n\n\n\n\n\n\n\n\n\n\nAnd to YOU\, our faithful patrons\, we\n“can no other answer make\, but thanks\, and thanks.”\n\n\n\n\n\n\n\n\n\n\n\n\n\n\n	The Palm Beach Shakespeare Festival is sponsored in part through grant funding from the following:
URL:https://pbshakespeare.org/event/william-shakespeares-fallstaff/2026-07-12/
LOCATION:Seabreeze Ampitheatre\, 750 South\, Florida A1A\, Jupiter\, FL\, 33477\, United States
CATEGORIES:Shakespeare by the Sea
END:VEVENT
BEGIN:VEVENT
DTSTART;TZID=America/New_York:20260716T200000
DTEND;TZID=America/New_York:20260716T220000
DTSTAMP:20260422T070030
CREATED:20250818T022339Z
LAST-MODIFIED:20260329T235421Z
UID:10000404-1784232000-1784239200@pbshakespeare.org
SUMMARY:WORLD PREMIERE! William Shakespeare's FALSTAFF
DESCRIPTION:WORLD PREMIERE\nWilliam Shakespeare’s FALSTAFF\n\nABOUT THE PLAY: Featured in three of Shakespeare’s plays\, one of the most enduring and beloved characters of all time is brought to live in this Palm Beach Shakespeare Festival WORLD PREMIERE production of William Shakespeare’s FALSTAFF. \nFrom Henry the IV and Henry the V\, to The Merry Wives of Windsor\, the character of Falstaff looms larger-than-life. This original production\, written by Artistic Director Trent Stephens\, uses scenes from each play to weave together the tale of the life and times of history’s greatest wit and scoundrel.\nPRODUCTION DETAILS: The Palm Beach Shakespeare Festival and Palm Beach County Parks & Recreation present the 36th Annual Shakespeare by the Sea WORLD PREMIERE presentation of William Shakespeare’s FALSTAFF – Thursdays through Sundays\, July 9-12 and 16-19 at the Seabreeze Amphitheater\, located at 750 South\, Jimmy Buffet Memorial Hwy\, Jupiter\, FL 33477. All performances start at 8:00pm and are FREE with a suggested donation of $5 per person. \n\n\n\n\n\n\n\n\n\n\n\n\n\n\n	Sponsors & Support\n\n	Shakespeare by the Sea XXXVI is co-presented in partnership with Palm Beach County Parks and Recreation\n\n \n\n\n	Presenting Sponsors\n\nGary & Katherine Parr\n\n\n\n\n\n\n\n\n\n\n\n\n\n\n	Shakespeare Circle Sponsors\n\nLisa Calberg & Frank Cona\n\n \n\n\n\n\n	The Bard’s Patron Sponsors\n\nKeith Christman\n\n \n\n\n\n\n	In-Kind Sponsors\n\nMalinda Ratliff\nChuck Andersen\nJeffrey Langlois\nJen Scott Photography\nAtlantic T’s\nAAA Equipment Rentals\nThunder House Sound\nDana Stevens Stages\nApplications\, Inc.\n\n\n\n    \n        \n            \n                \n                \n                \n                \n                \n                \n            \n        \n        \n    \n\n\n\n\n\n\n\n\n\n\n\n\n\n\n\nAnd to YOU\, our faithful patrons\, we\n“can no other answer make\, but thanks\, and thanks.”\n\n\n\n\n\n\n\n\n\n\n\n\n\n\n	The Palm Beach Shakespeare Festival is sponsored in part through grant funding from the following:
URL:https://pbshakespeare.org/event/william-shakespeares-fallstaff/2026-07-16/
LOCATION:Seabreeze Ampitheatre\, 750 South\, Florida A1A\, Jupiter\, FL\, 33477\, United States
CATEGORIES:Shakespeare by the Sea
END:VEVENT
BEGIN:VEVENT
DTSTART;TZID=America/New_York:20260717T200000
DTEND;TZID=America/New_York:20260717T220000
DTSTAMP:20260422T070030
CREATED:20250818T022339Z
LAST-MODIFIED:20260329T235421Z
UID:10000405-1784318400-1784325600@pbshakespeare.org
SUMMARY:WORLD PREMIERE! William Shakespeare's FALSTAFF
DESCRIPTION:WORLD PREMIERE\nWilliam Shakespeare’s FALSTAFF\n\nABOUT THE PLAY: Featured in three of Shakespeare’s plays\, one of the most enduring and beloved characters of all time is brought to live in this Palm Beach Shakespeare Festival WORLD PREMIERE production of William Shakespeare’s FALSTAFF. \nFrom Henry the IV and Henry the V\, to The Merry Wives of Windsor\, the character of Falstaff looms larger-than-life. This original production\, written by Artistic Director Trent Stephens\, uses scenes from each play to weave together the tale of the life and times of history’s greatest wit and scoundrel.\nPRODUCTION DETAILS: The Palm Beach Shakespeare Festival and Palm Beach County Parks & Recreation present the 36th Annual Shakespeare by the Sea WORLD PREMIERE presentation of William Shakespeare’s FALSTAFF – Thursdays through Sundays\, July 9-12 and 16-19 at the Seabreeze Amphitheater\, located at 750 South\, Jimmy Buffet Memorial Hwy\, Jupiter\, FL 33477. All performances start at 8:00pm and are FREE with a suggested donation of $5 per person. \n\n\n\n\n\n\n\n\n\n\n\n\n\n\n	Sponsors & Support\n\n	Shakespeare by the Sea XXXVI is co-presented in partnership with Palm Beach County Parks and Recreation\n\n \n\n\n	Presenting Sponsors\n\nGary & Katherine Parr\n\n\n\n\n\n\n\n\n\n\n\n\n\n\n	Shakespeare Circle Sponsors\n\nLisa Calberg & Frank Cona\n\n \n\n\n\n\n	The Bard’s Patron Sponsors\n\nKeith Christman\n\n \n\n\n\n\n	In-Kind Sponsors\n\nMalinda Ratliff\nChuck Andersen\nJeffrey Langlois\nJen Scott Photography\nAtlantic T’s\nAAA Equipment Rentals\nThunder House Sound\nDana Stevens Stages\nApplications\, Inc.\n\n\n\n    \n        \n            \n                \n                \n                \n                \n                \n                \n            \n        \n        \n    \n\n\n\n\n\n\n\n\n\n\n\n\n\n\n\nAnd to YOU\, our faithful patrons\, we\n“can no other answer make\, but thanks\, and thanks.”\n\n\n\n\n\n\n\n\n\n\n\n\n\n\n	The Palm Beach Shakespeare Festival is sponsored in part through grant funding from the following:
URL:https://pbshakespeare.org/event/william-shakespeares-fallstaff/2026-07-17/
LOCATION:Seabreeze Ampitheatre\, 750 South\, Florida A1A\, Jupiter\, FL\, 33477\, United States
CATEGORIES:Shakespeare by the Sea
END:VEVENT
BEGIN:VEVENT
DTSTART;TZID=America/New_York:20260718T200000
DTEND;TZID=America/New_York:20260718T220000
DTSTAMP:20260422T070030
CREATED:20250818T022339Z
LAST-MODIFIED:20260329T235421Z
UID:10000406-1784404800-1784412000@pbshakespeare.org
SUMMARY:WORLD PREMIERE! William Shakespeare's FALSTAFF
DESCRIPTION:WORLD PREMIERE\nWilliam Shakespeare’s FALSTAFF\n\nABOUT THE PLAY: Featured in three of Shakespeare’s plays\, one of the most enduring and beloved characters of all time is brought to live in this Palm Beach Shakespeare Festival WORLD PREMIERE production of William Shakespeare’s FALSTAFF. \nFrom Henry the IV and Henry the V\, to The Merry Wives of Windsor\, the character of Falstaff looms larger-than-life. This original production\, written by Artistic Director Trent Stephens\, uses scenes from each play to weave together the tale of the life and times of history’s greatest wit and scoundrel.\nPRODUCTION DETAILS: The Palm Beach Shakespeare Festival and Palm Beach County Parks & Recreation present the 36th Annual Shakespeare by the Sea WORLD PREMIERE presentation of William Shakespeare’s FALSTAFF – Thursdays through Sundays\, July 9-12 and 16-19 at the Seabreeze Amphitheater\, located at 750 South\, Jimmy Buffet Memorial Hwy\, Jupiter\, FL 33477. All performances start at 8:00pm and are FREE with a suggested donation of $5 per person. \n\n\n\n\n\n\n\n\n\n\n\n\n\n\n	Sponsors & Support\n\n	Shakespeare by the Sea XXXVI is co-presented in partnership with Palm Beach County Parks and Recreation\n\n \n\n\n	Presenting Sponsors\n\nGary & Katherine Parr\n\n\n\n\n\n\n\n\n\n\n\n\n\n\n	Shakespeare Circle Sponsors\n\nLisa Calberg & Frank Cona\n\n \n\n\n\n\n	The Bard’s Patron Sponsors\n\nKeith Christman\n\n \n\n\n\n\n	In-Kind Sponsors\n\nMalinda Ratliff\nChuck Andersen\nJeffrey Langlois\nJen Scott Photography\nAtlantic T’s\nAAA Equipment Rentals\nThunder House Sound\nDana Stevens Stages\nApplications\, Inc.\n\n\n\n    \n        \n            \n                \n                \n                \n                \n                \n                \n            \n        \n        \n    \n\n\n\n\n\n\n\n\n\n\n\n\n\n\n\nAnd to YOU\, our faithful patrons\, we\n“can no other answer make\, but thanks\, and thanks.”\n\n\n\n\n\n\n\n\n\n\n\n\n\n\n	The Palm Beach Shakespeare Festival is sponsored in part through grant funding from the following:
URL:https://pbshakespeare.org/event/william-shakespeares-fallstaff/2026-07-18/
LOCATION:Seabreeze Ampitheatre\, 750 South\, Florida A1A\, Jupiter\, FL\, 33477\, United States
CATEGORIES:Shakespeare by the Sea
END:VEVENT
BEGIN:VEVENT
DTSTART;TZID=America/New_York:20260719T200000
DTEND;TZID=America/New_York:20260719T220000
DTSTAMP:20260422T070031
CREATED:20250818T022339Z
LAST-MODIFIED:20260329T235421Z
UID:10000407-1784491200-1784498400@pbshakespeare.org
SUMMARY:WORLD PREMIERE! William Shakespeare's FALSTAFF
DESCRIPTION:WORLD PREMIERE\nWilliam Shakespeare’s FALSTAFF\n\nABOUT THE PLAY: Featured in three of Shakespeare’s plays\, one of the most enduring and beloved characters of all time is brought to live in this Palm Beach Shakespeare Festival WORLD PREMIERE production of William Shakespeare’s FALSTAFF. \nFrom Henry the IV and Henry the V\, to The Merry Wives of Windsor\, the character of Falstaff looms larger-than-life. This original production\, written by Artistic Director Trent Stephens\, uses scenes from each play to weave together the tale of the life and times of history’s greatest wit and scoundrel.\nPRODUCTION DETAILS: The Palm Beach Shakespeare Festival and Palm Beach County Parks & Recreation present the 36th Annual Shakespeare by the Sea WORLD PREMIERE presentation of William Shakespeare’s FALSTAFF – Thursdays through Sundays\, July 9-12 and 16-19 at the Seabreeze Amphitheater\, located at 750 South\, Jimmy Buffet Memorial Hwy\, Jupiter\, FL 33477. All performances start at 8:00pm and are FREE with a suggested donation of $5 per person. \n\n\n\n\n\n\n\n\n\n\n\n\n\n\n	Sponsors & Support\n\n	Shakespeare by the Sea XXXVI is co-presented in partnership with Palm Beach County Parks and Recreation\n\n \n\n\n	Presenting Sponsors\n\nGary & Katherine Parr\n\n\n\n\n\n\n\n\n\n\n\n\n\n\n	Shakespeare Circle Sponsors\n\nLisa Calberg & Frank Cona\n\n \n\n\n\n\n	The Bard’s Patron Sponsors\n\nKeith Christman\n\n \n\n\n\n\n	In-Kind Sponsors\n\nMalinda Ratliff\nChuck Andersen\nJeffrey Langlois\nJen Scott Photography\nAtlantic T’s\nAAA Equipment Rentals\nThunder House Sound\nDana Stevens Stages\nApplications\, Inc.\n\n\n\n    \n        \n            \n                \n                \n                \n                \n                \n                \n            \n        \n        \n    \n\n\n\n\n\n\n\n\n\n\n\n\n\n\n\nAnd to YOU\, our faithful patrons\, we\n“can no other answer make\, but thanks\, and thanks.”\n\n\n\n\n\n\n\n\n\n\n\n\n\n\n	The Palm Beach Shakespeare Festival is sponsored in part through grant funding from the following:
URL:https://pbshakespeare.org/event/william-shakespeares-fallstaff/2026-07-19/
LOCATION:Seabreeze Ampitheatre\, 750 South\, Florida A1A\, Jupiter\, FL\, 33477\, United States
CATEGORIES:Shakespeare by the Sea
END:VEVENT
END:VCALENDAR